DSET ^CBO_V1_1deg-PEN_CLIM_1991-2020.lnx
*
OPTIONS little_endian
*
TITLE CPC Blended OLR Pentad Climatology (1991-2020)
*
UNDEF -999.0
*
XDEF 360 LINEAR 0.5 1.0
YDEF 180 LINEAR -89.5 1.0
ZDEF 1 LEVELS 1
TDEF 73 LINEAR 05Jan1991 5dy
VARS 1
olr 1 99 climo (W/m^2)
ENDVARS *** annual mean + summation of first 6 harmonics
