DSET ^CBO_V1_1deg-MON_CLIM_1991-2020.lnx
*
OPTIONS little_endian
*
TITLE CPC Blended OLR Monthly Climatology (1991-2020)
*
UNDEF -999.0
*
XDEF 360 LINEAR 0.5 1.0
YDEF 180 LINEAR -89.5 1.0
ZDEF 1 LEVELS 1
TDEF 12 LINEAR Jan1991 1mo
VARS 1
olr 1 99 climo (W/m^2)
ENDVARS *** annual mean + summation of first 6 harmonics
