dset ^../%y4/CBO_V1_0.25deg-WKLY.lnx.%y4%m2%d2
options template little_endian
undef -999.0
title CPC-Blended-OLR (CBO) V1 Weekly (Monday-Sunday) Data in 0.25deg-grid
xdef 1440 linear 0.125 0.25
ydef 720 linear -89.875 0.25
zdef 1 levels 1
tdef 1747 linear 06Jan1991 7dy
**********************************
* NOTE: timestamp is end-of-week
*
**********************************
vars 2
olr 1 99 OLR total (W/m^2)
anom 1 99 OLR anomaly (W/m^2)
endvars ************************************************************* * NOTES * *-----------------------------------------------------------* * 1. Data files of 1991.01.06~2023.05.14 are Final version. * * 2. Data files of 2023.05.21~2024.06.23 are NRT version. * *************************************************************
