DSET ^CBO_V1_0.25deg-WKLY_CLIM_1991-2020_365.lnx
*
OPTIONS little_endian
*
TITLE CPC Blended OLR Weekly Climatology (1991-2020)
*
UNDEF -999.0
*
XDEF 1440 LINEAR 0.125 0.25
YDEF 720 LINEAR -89.875 0.25
ZDEF 1 LEVELS 1
TDEF 365 LINEAR 01Jan1991 1dy
VARS 1
olr 1 99 weekly climo for a 7-day period ending on the stampled date (W/m^2)
ENDVARS *** annual mean + summation of first 6 harmonics *** for non-leap year use (365-day year)
