DSET ^CBO_V1_0.25deg-DLY_CLIM_1991-2020_366.lnx
*
OPTIONS little_endian
*
TITLE CPC Blended OLR (CBO) Version 1 Daily OLR Climatology (1991-2020)
*
UNDEF -999.0
*
XDEF 1440 LINEAR 0.125 0.25
YDEF 720 LINEAR -89.875 0.25
ZDEF 1 LEVELS 1
TDEF 366 LINEAR 01Jan1992 1dy
VARS 1
olr 1 99 climo (W/m^2)
ENDVARS *** annual mean + summation of first 6 harmonics *** day 60 (Feb 29) defined as the mean of day 59 (feb 28) *** and day 61 (Mar 1)
