DSET ^NODC_SAL_1DEG_MON.lnx.CLIM
*
UNDEF -999.0
*
TITLE NODC gridded in situ SSS climatology
*
OPTIONS little_endian
*
XDEF 360 LINEAR 0.5 1.0
*
YDEF 180 LINEAR -89.5 1.0
*
ZDEF 24 LEVELS 0 -10 -20 -30 -50 -75 -100 -125 -150 -200 -250 -300 -400 -500 -600 -700 -800 -900 -1000 -1100 -1200 -1300 -1400 -1500
*
TDEF 12 LINEAR JAN2011 1mo
*
VARS 1
ana 24 99 ch01 analyzed SSS (PSU)
ENDVARS
