DSET CMORPH_V1.0_ADJ_1.00deg-dly-CLIM.lnx.1999-2013
OPTIONS template little_endian
UNDEF -999.0
TITLE Precipitation estimates
XDEF 360 LINEAR 0.5 1.0
YDEF 120 LINEAR -59.5 1.0
ZDEF 01 LEVELS 1
TDEF 365 LINEAR 01jan2005 1dy
VARS 1
cmorph 1 99 daily cmorph [ mm/day ]
ENDVARS
