dset ^../%y4/%m2/CFSR_EVAP_1.0deg_dly.lnx.%y4%m2%d2
*
undef -999.0
*
title CFSR daily surface evaporation
*
options template little_endian
*
xdef 360 linear 0.5 1.0
*
ydef 180 linear -89.5 1.0
*
zdef 1 levels 1000
*
tdef 99999 linear 00z01jan1981 1dy
*
vars 1
evap 0 99 ** surface evaporation (mm/day)
endvars
