DSET ^precl_mon_v1.0.lnx.%y4.gri0.5m
*
UNDEF -999.0
*
options little_endian template
*
TITLE Monthly Mean Rainfall and Number of Gauges in 0.5x0.5 boxes
*
XDEF 720 LINEAR 0.25 0.5
*
YDEF 360 LINEAR -89.75 0.5
*
ZDEF 1 LEVELS 1
*
TDEF 1000 LINEAR Jan1948 1mon
*
VARS 2
rain 1 00 monthly mean rainfall amount (unit=0.1 mm/day)
gnum 1 00 number of gauges in each 0.5 deg lat/lon grid box
ENDVARS
