DSET ^GOE-12_Jul.data
UNDEF -9999.0
*
OPTIONS little_endian
*
XDEF 3600 LINEAR 0 0.1
*
YDEF 1800 LINEAR -90 0.1
*
ZDEF 01 LEVELS 1
TDEF 1 LINEAR 00z1Jul2005 1mo
*
VARS 1
tb 1 0 (K)
ENDVARS
