DSET ^cmap_pen_rt_v0011_out.lnx.2001
*
UNDEF -999.0
*
options little_endian
*
TITLE Real Time Pentad CMAP V0011
*
XDEF 144 LINEAR 1.25 2.5
*
YDEF 72 LINEAR -88.75 2.5
*
ZDEF 02 LEVELS 1 2
*
TDEF 73 LINEAR 01JAN2001 5dy
*
VARS 1
cmap 1 99 ch01 merged analysis (mm/day; observation only)
ENDVARS
