DSET ^atoll_rain_mon_v0301.lnx
*
UNDEF -999.0
*
OPTIONS little_endian
*
TITLE atoll rainfall downloaded in 2002-03
*
XDEF 48 LINEAR 121.25 2.5
*
YDEF 32 LINEAR -38.75 2.5
*
ZDEF 02 LEVELS 1 2
*
TDEF 384 LINEAR JAN1971 1mo
*
VARS 2
rain 1 99 ch01 mean atoll rainfall
numb 1 99 ch02 number of gauges
ENDVARS
