DSET ^CPC_OLR_Pen_Climo_1991-2020.lnx
OPTIONS little_endian 365_day_calendar
UNDEF -9999.0
TITLE Pentad outgoing longwave radiation clim (6 hars)
XDEF 144 linear 0.0 2.5
YDEF 73 linear -90.0 2.5
ZDEF 1 levels 1000
TDEF 73 linear 3jan1981 5dy
VARS 1
olr 1 99 outgoing longwave radiation (W/m*m)
ENDVARS
