DSET ^CPC_OLR_Dly_Climo_1991-2020.lnx.366Day
OPTIONS little_endian 365_day_calendar
UNDEF -9999.0
TITLE Daily outgoing longwave radiation clim (6 hars)
XDEF 144 linear 0.0 2.5
YDEF 73 linear -90.0 2.5
ZDEF 1 levels 1000
TDEF 366 linear 1jan1992 1dy
VARS 1
olr 1 99 outgoing longwave radiation (W/m*m)
ENDVARS *** *** Notes: 0) This 366-day climo is created from that for 365-day climo *** by adding value for Feb.29 as the mean of that for Feb.28 and Mar. 1 *** 1) Time series of total daily OLR are from NOAA/PSL *** https://www.psl.noaa.gov/data/gridded/data.interp_OLR.html *** 2) The PSL daily OLR are derived from the gridded individual satellite *** AVHRR OLR put together at CPC *** 3) Data for Feb.29 in leap years are excluded from the calculation
