dset ^CFSv2.ocnsst.20250510.gr
undef -99999.00
options big_endian
title SST CFSv2 forecast daily mean 9-month runs
ydef 360 linear -89.750000 0.5
xdef 720 linear -359.75 0.500000
zdef 1 linear 1 1
tdef 270 linear 00z11May2025 1dy
*from the frist forecast target date (20250510+1)
vars 4
sst00 1 99 00z 5 m below sea level Potential Temperature [K]
sst06 1 99 06z 5 m below sea level Potential Temperature [K]
sst12 1 99 12z 5 m below sea level Potential Temperature [K]
sst18 1 99 18z 5 m below sea level Potential Temperature [K]
ENDVARS
