dset ^CFSv2.ocnsst.20250509.90dy.gr
undef -99999.00
options big_endian
title SST CFSv2 forecast daily mean 3-month runs
ydef 360 linear -89.750000 0.5
xdef 720 linear -359.75 0.500000
zdef 1 linear 1 1
tdef 130 linear 00z10May2025 1dy
*from the frist forecast target date (20250509+1)
vars 3
sst0002 1 99 00z-run2 5 m below sea level Potential Temperature [K]
sst0003 1 99 00z-run3 5 m below sea level Potential Temperature [K]
sst0004 1 99 00z-run4 5 m below sea level Potential Temperature [K]
ENDVARS
