dset ^CFSv2.ocnsst.20250503.45dy.gr
undef -99999.00
options big_endian
title SST CFSv2 forecast daily mean 3-month runs
ydef 360 linear -89.750000 0.5
xdef 720 linear -359.75 0.500000
zdef 1 linear 1 1
tdef 45 linear 00z04May2025 1dy
*from the frist forecast target date (20250503+1)
vars 9
sst0602 1 99 06z-run2 5 m below sea level Potential Temperature [K]
sst0603 1 99 06z-run3 5 m below sea level Potential Temperature [K]
sst0604 1 99 06z-run4 5 m below sea level Potential Temperature [K]
sst1202 1 99 12z-run2 5 m below sea level Potential Temperature [K]
sst1203 1 99 12z-run3 5 m below sea level Potential Temperature [K]
sst1204 1 99 12z-run4 5 m below sea level Potential Temperature [K]
sst1802 1 99 18z-run2 5 m below sea level Potential Temperature [K]
sst1803 1 99 18z-run3 5 m below sea level Potential Temperature [K]
sst1804 1 99 18z-run4 5 m below sea level Potential Temperature [K]
ENDVARS
