dset ^uwnd_2015.12-2018.05_720x361x37
undef 9.999E+20
title pgb.gdas.197901.grb2
* produced by alt_g2ctl v0.9.98, use alt_gmp to make idx file
* command line options: -0 -update -nthreads 5 pgb.gdas.%y4%m2.grb2 pgb.gdas.idx
* alt_gmp options: update=1
* alt_gmp options: nthreads=5
* alt_gmp options: big=0
* wgrib2 inventory flags: -npts -set_ext_name 1 -T -ext_name -lev
* wgrib2 inv suffix: .invd03
* griddef=1:0:(720 x 361):grid_template=0:winds(N/S): lat-lon grid:(720 x 361) units 1e-06 input WE:NS output WE:SN res 48 lat 90.000000 to -90.000000 by 0.500000 lon 0.000000 to 359.500000 by 0.500000 #points=259920:winds(N/S)
ydef 361 linear -90.000000 0.5
xdef 720 linear 0.000000 0.500000
tdef 30 linear 00Z01dec2015 1mo
zdef 37 levels 1000 975 950 925 900 875 850 825 800 775 750 700 650 600 550 500 450 400 350 300 250 225 200 175 150 125 100 70 50 30 20 10 7 5 3 2 1
vars 1
UWND 37 0 "UGRD:%s mb" * profile UGRD:%s mb
endvars
