dset ^comp.prop_slow.map.gr
title global daily analysis
undef 0.0
xdef 81 linear 230.0 1.0
ydef 41 linear 20.0 1.0
zdef 1 linear 1 1
tdef 21 LINEAR 0Z00MAY1955 1dy
vars 1
p1 0 99 prcp
ENDVARS
