DSET ^comp.prop_slow.h500.gr
TITLE precip mrf goga
UNDEF -9.99
XDEF 144 LINEAR 0 2.5
YDEF 73 LINEAR -90.0 2.5
ZDEF 1 LINEAR 1000 50
TDEF 21 LINEAR 0Z00JAN0000 1dy
VARS 1
p1 0 99 pcipitatio
ENDVARS
