DSET ^cmorph_1998-2021.bin
OPTIONS little_endian
TITLE CMORPH CRT
UNDEF -999.0
XDEF 1440 linear 0.125 0.25
YDEF 480 linear -59.875 0.25
ZDEF 1 levels 1
TDEF 288 linear 01jan1998 1mo
VARS 1
cmorph 1 00 precip climo (mm/day)
ENDVARS
