DSET ^clim_mon_%m2.bin
TITLE CMORPH daily precip from 00Z-24Z
OPTIONS template little_endian
UNDEF -999.0
XDEF 1440 LINEAR 0.125 0.25
YDEF 480 LINEAR -59.875 0.25
ZDEF 01 LEVELS 1
TDEF 12 LINEAR 01jan1998 1mo
VARS 1
rain 1 99 yyyyy CMORPH monthly precipitation (mm day-1)
ENDVARS
