DSET ^ndvi_senegal_%t1.bin
OPTIONS little_endian template
UNDEF -999000000
TITLE test
xdef 223 linear -18.0180 0.036
ydef 141 linear 11.9700 0.036
ZDEF 1 LEVELS 1
TDEF 52 linear 01Jan2015 1dy
VARS 1
r 0 99 vhi (%)
ENDVARS
