DSET ^cpcu.spei.12.mo.bin
*
UNDEF -999.
*
TITLE SPI at 12-mo time scale
*
XDEF 720 LINEAR 0.25 0.5
*
YDEF 360 LINEAR -89.75 0.5
*
ZDEF 1 LINEAR 1 1
*
TDEF 1 LINEAR Oct2021 1mo
*
VARS 1
p 1 00 spei
ENDVARS
