DSET ^soilmoisture.12.mo.bin
*
UNDEF -999.
*
TITLE Soil Moisture Percentile at 12-mo time scale
*
XDEF 720 LINEAR 0.25 0.5
*
YDEF 360 LINEAR -89.75 0.5
*
ZDEF 1 LINEAR 1 1
*
TDEF 1 LINEAR Mar2024 1mo
*
VARS 1
w 1 00 Soil Moisture Percentile
ENDVARS
