DSET ^runoff.3.mo.bin
*
UNDEF -999.
*
TITLE Runoff Percentile at 3-mo time scale
*
XDEF 720 LINEAR 0.25 0.5
*
YDEF 360 LINEAR -89.75 0.5
*
ZDEF 1 LINEAR 1 1
*
TDEF 1 LINEAR Feb2024 1mo
*
VARS 1
r 1 00 Runoff Percentile
ENDVARS
