dset ^EDDI_20250401.nc
undef -9999.0
title  EDDI Monitoring
dtype netcdf
xdef 464 linear -125.0 0.125000
ydef 224 linear 25.0 0.125
tdef 1 linear 01apr2025 1mo
zdef 1 linear 1 1
vars 24
EDDI_01wk=>eddi01wk 0 y,x p1
EDDI_02wk=>eddi02wk 0 y,x p1
EDDI_03wk=>eddi03wk 0 y,x p1
EDDI_04wk=>eddi04wk 0 y,x p1
EDDI_05wk=>eddi05wk 0 y,x p1
EDDI_06wk=>eddi06wk 0 y,x p1
EDDI_07wk=>eddi07wk 0 y,x p1
EDDI_08wk=>eddi08wk 0 y,x p1
EDDI_09wk=>eddi09wk 0 y,x p1
EDDI_10wk=>eddi10wk 0 y,x p1
EDDI_11wk=>eddi11wk 0 y,x p1
EDDI_12wk=>eddi12wk 0 y,x p1
EDDI_01mn=>eddi01mn 0 y,x p1
EDDI_02mn=>eddi02mn 0 y,x p1
EDDI_03mn=>eddi03mn 0 y,x p1
EDDI_04mn=>eddi04mn 0 y,x p1
EDDI_05mn=>eddi05mn 0 y,x p1
EDDI_06mn=>eddi06mn 0 y,x p1
EDDI_07mn=>eddi07mn 0 y,x p1
EDDI_08mn=>eddi08mn 0 y,x p1
EDDI_09mn=>eddi09mn 0 y,x p1
EDDI_10mn=>eddi10mn 0 y,x p1
EDDI_11mn=>eddi11mn 0 y,x p1
EDDI_12mn=>eddi12mn 0 y,x p1
ENDVARS
