dset /cpc/noscrub/Qin.Zhang/NMME/ENSMEAN/2014050800/tmax.2014050800.ENSMEAN.ensmean.anom.1x1.grb
index /cpc/noscrub/Qin.Zhang/NMME/ENSMEAN/2014050800/tmax.2014050800.ENSMEAN.ensmean.anom.1x1.grb.idx
undef 9.999E+20
title /cpc/noscrub/Qin.Zhang/NMME/ENSMEAN/2014050800/tmax.2014050800.ENSMEAN.ensmean.anom.1x1.grb
* produced by grib2ctl v0.9.12.5p39a
dtype grib 3
options yrev
ydef 181 linear -90.000000 1
xdef 360 linear 0.000000 1.000000
tdef 7 linear 00Z08jul2014 1mo
zdef 1 linear 1 1
vars 1
TMAX2m 0 15,105,2 ** 2 m above ground Max. temp. [K]
ENDVARS
