dset /cpc/noscrub/Qin.Zhang/NMME/ENSMEAN/2014050800/prate.2014050800.GFDL.ensmean.anom.1x1.grb
index /cpc/noscrub/Qin.Zhang/NMME/ENSMEAN/2014050800/prate.2014050800.GFDL.ensmean.anom.1x1.grb.idx
undef 9.999E+20
title /cpc/noscrub/Qin.Zhang/NMME/ENSMEAN/2014050800/prate.2014050800.GFDL.ensmean.anom.1x1.grb
* produced by grib2ctl v0.9.12.5p39a
dtype grib 3
options yrev
ydef 181 linear -90.000000 1
xdef 360 linear 0.000000 1.000000
tdef 7 linear 00Z08jul2014 1mo
zdef 1 linear 1 1
vars 1
PRATEsfc 0 59,1,0 ** surface Precipitation rate [kg/m^2/s]
ENDVARS
