dset ^JunIC_nmme_seasonal_tmp2m_anom.dat
undef 9.999E+20
title prate.bin
options little_endian
xdef 360 linear 0.000000 1.0
ydef 181 linear -90.0 1.0
tdef 6 linear 15Jun1982 1mo
zdef 1 linear 1 1
vars 2
tmp2m 0,1,0 0,1,7,0 ** precip anom mm/day
anom 0,1,0 0,1,7,0 ** precip anom mm/day
ENDVARS
