dset ^gefs_week2_wind_20230810IC.dat
undef -999000000.000000
xdef 360 linear 0 1
ydef 181 linear -90 1
zdef 1 linear 1 1
tdef 1 linear 10Aug2023 1dy
vars 20
u850mb 0 99 u wind 850mb
v850mb 0 99 v wind 850mb
u700mb 0 99 u wind 700mb
v700mb 0 99 v wind 700mb
u500mb 0 99 u wind 500mb
v500mb 0 99 v wind 500mb
u200mb 0 99 u wind 200mb
v200mb 0 99 v wind 200mb
mslp 0 99 u mean sea level Pressure
h500mb 0 99 500 height
u850mbt 0 99 u wind total 850mb
v850mbt 0 99 v wind total 850mb
u700mbt 0 99 u wind total 700mb
v700mbt 0 99 v wind total 700mb
u500mbt 0 99 u wind total 500mb
v500mbt 0 99 v wind total 500mb
u200mbt 0 99 u wind total 200mb
v200mbt 0 99 v wind total 200mb
mslpt 0 99 u mean sea level Pressure total
h500mbt 0 99 500 height total
endvars
