dset ^gefs_week2_precip_20230810IC.dat
undef -999000000.000000
xdef 720 linear 0 0.5
ydef 361 linear -90 0.5
zdef 1 linear 1 1
tdef 1 linear 10Aug2023 1dy
vars 11
clim 0 99 7-day climatology
total 0 99 7-day toatl Fcst
rawabv 0 99 Above Prob Raw fcst
calibabv 0 99 Above prob Calib fcst
prob10 0 99 Exccedance prob 10mm
prob25 0 99 Exccedance prob 25mm
prob50 0 99 Exccedance prob 50mm
prob100 0 99 Exccedance prob 100mm
prob150 0 99 Exccedance prob 150mm
prob200 0 99 Exccedance prob 200mm
corr 0 99 Correlation
endvars
