DSET ^soilw.14mon.mean.dat
UNDEF -9999.0
TITLE Monthly OIv2 SST
XDEF 720 LINEAR 0.5 0.5
YDEF 360 LINEAR -89.75 0.5
ZDEF 1 LEVELS 1
TDEF 14 LINEAR Jul2019 1mo
VARS 1
soilw 0 1 99 monthly reanalyzed oi sst (with bldbc) (hidden)
ENDVARS
