dset ^cpcu_clim_%m2%d2.bin
options little_endian template
title CPC Unified Precipitation Climatology (1981-2010)
undef -999.0
xdef 720 linear 0.25 0.50
ydef 360 linear -89.75 0.50
zdef 1 linear 1 1
tdef 99999 linear 1jan1980 1dy
vars 1
rain 1 00 clim (0.1mm/day)
ENDVARS
