dset ^cpcuni_prcp_rt.dat
options little_endian
title global daily analysis (grid box mean, the grid shown is the center of the grid box)
undef -999.0
xdef 720 linear 0.25 0.50
ydef 360 linear -89.75 0.50
zdef 1 linear 1 1
TDEF 180 LINEAR 07Jun2023 1dy
vars 1
rain 1 00 the grid analysis (0.1mm/day)
ENDVARS
