dset ^cfsv2_precip_novic_anom_stdanom.dat
undef -9.99e8
title sst.ensm.cfsv2.data.bin
options little_endian
xdef 360 linear 0.000000 1.0
ydef 181 linear -90.0 1.0
tdef 8 linear 15feb2017 1mo
zdef 1 linear 1 1
vars 4
precip 0,1,0 0,1,7,0 ** Precip (mm per day)
clim 0,1,0 0,1,7,0 ** Precip Clime (mm per day)
anom 0,1,0 0,1,7,0 ** Precip Anomalies (mm per day)
stdanom 0,1,0 0,1,7,0 ** Precip Std. Anomalies
ENDVARS
