DSET ^olr_month.dat
*
UNDEF -9999.0
*
*
TITLE Monthly mean OLR data (Jan 1983 ~ Dec 2016 )
*
XDEF 144 linear 0.0 2.5
*
YDEF 73 linear -90.0 2.5
*
ZDEF 1 LEVELS 1
*
TDEF 408 LINEAR 01Jan1983 1mo
*
VARS 1
olr 1 99 monthly mean OLR (W/m*m)
ENDVARS
