DSET ^CFSv2NSIDC_MaskNH_hd.gr
options big_endian
undef -999.0
title CFSv2/NSIDC common land-sea mask based on data from Jan1979 to Jan2011
* /export/hobbes/wd20wq/projx/obs/seaice/commonMask/CFSv2NSIDC_MaskNH_hd_lnx.sh
* /cpc/save/wx52ww/obs/seaice/commonMask/CFSv2NSIDC_MaskNH_hd.sh
ydef 120 linear 30.25 0.5
xdef 720 linear 0.25 0.5
tdef 1 linear 00Z01jan1979 1mo
zdef 1 linear 1 1
vars 1
mask 0 1,0,0 ** (ocean: 1; land: -999)
ENDVARS
