DSET ^sfc_lwn.%y2.grd
UNDEF -999.9
TITLE reanl -SFC- LWDN Jan 1985
* --- DEFINE DIMENSIONS ---
*
XDEF 144 LINEAR 1.25 2.50
YDEF 72 LINEAR -88.75 2.50
ZDEF 01 LEVELS 1000
TDEF 72 LINEAR Jan1985 01MO
options yrev template
* --- DEFINE VARIABLES ---
*
VARS 1
lwn 1 99 sfc dnlw FLUX
enDVARS
