dset ^CFSv2.201304.dat
undef -999.
title CFSv2
options yrev
ydef 61 linear -30.000000 1
xdef 360 linear 0.000000 1.000000
tdef 8 linear jan1982 1mo
zdef 1 linear 1 1
vars 32
em1 0 81,1,0 ** tmpsfc
em2 0 81,1,0 ** tmpsfc
em3 0 81,1,0 ** tmpsfc
em4 0 81,1,0 ** tmpsfc
em5 0 81,1,0 ** tmpsfc
em6 0 81,1,0 ** tmpsfc
em7 0 81,1,0 ** tmpsfc
em8 0 81,1,0 ** tmpsfc
em9 0 81,1,0 ** tmpsfc
em10 0 81,1,0 ** tmpsfc
em11 0 81,1,0 ** tmpsfc
em12 0 81,1,0 ** tmpsfc
em13 0 81,1,0 ** tmpsfc
em14 0 81,1,0 ** tmpsfc
em15 0 81,1,0 ** tmpsfc
em16 0 81,1,0 ** tmpsfc
em17 0 81,1,0 ** tmpsfc
em18 0 81,1,0 ** tmpsfc
em19 0 81,1,0 ** tmpsfc
em20 0 81,1,0 ** tmpsfc
em21 0 81,1,0 ** tmpsfc
em22 0 81,1,0 ** tmpsfc
em23 0 81,1,0 ** tmpsfc
em24 0 81,1,0 ** tmpsfc
em25 0 81,1,0 ** tmpsfc
em26 0 81,1,0 ** tmpsfc
em27 0 81,1,0 ** tmpsfc
em28 0 81,1,0 ** tmpsfc
em29 0 81,1,0 ** tmpsfc
em30 0 81,1,0 ** tmpsfc
em31 0 81,1,0 ** tmpsfc
em32 0 81,1,0 ** tmpsfc
ENDVARS
