DSET ^wgrid.1895_cur
UNDEF -9.99e+08
TITLE score
options little_endian
*
XDEF 64 LINEAR -130.0 1.0
*
YDEF 32 LINEAR 21.0 1.0
*
ZDEF 01 LEVELS 1 2
*
*TDEF 2000 LINEAR 1JAN1931 1mo
TDEF 2000 LINEAR 15JAN1895 1mo
*
VARS 1
x 00 99 score.f
ENDVARS
