DSET ^w30.19781231
TITLE NLDAS Soil Moisture
*OPTIONS big_endian
*OPTIONS sequential
UNDEF -9.990000E+08
XDEF 464 LINEAR -124.938 0.125
YDEF 224 LINEAR 25.063 0.125
ZDEF 1 LINEAR 1.0 1.0
TDEF 1 LINEAR 00Z31dec1978 1hr
VARS 1
w 0 99 SM (mm)
ENDVARS
