dset ^ghcn_cams_1948_cur_2.5.grb
index ^ghcn_cams_1948_cur_2.5.grb.idx
undef 9.999E+20
title ghcn_cams_1948_cur_2.5.grb
* produced by g2ctl v0.0.8.4
* command line options: ghcn_cams_1948_cur_2.5.grb
* griddef=1:0:(144 x 73):grid_template=0:winds(N/S): lat-lon grid:(144 x 73) units 1e-06 input WE:NS output WE:SN res 48 lat 90.000000 to -90.000000 by 2.500000 lon 0.000000 to 357.500000 by 2.500000 #points=10512:winds(N/S)
dtype grib2
ydef 73 linear -90.000000 2.5
xdef 144 linear 0.000000 2.500000
tdef 914 linear 00Z01jan1948 1mo
zdef 1 linear 1 1
vars 1
TMPsfc 0,1 0,0,0 ** surface Temperature [C]
ENDVARS
