dset ^fix/aoiclim.71_00.daily.%y4.dat
options template big_endian
undef -999.
title daily revised oi clim (1971-2000 average)
xdef 360 linear 0.5 1
ydef 180 linear -89.5 1
zdef 1 levels 1
tdef 14610 linear 00Z01jan1981 1dy
vars 1
clm 0 11 ,1 ,0 Temperature [C]
endvars
