dset ^fix/aoi.71.00.clim.v2.gr
options big_endian
undef -999.9
title SST climatology for 1971-2000 derived with the revised OI analysis
*
xdef 360 linear 0.5 1
*
ydef 180 linear -89.5 1
*
zdef 02 levels 1 2
*
tdef 12 linear jan2000 1mon
*
vars 1
sst 1 99 clim
endvars
