dset ^wnd925.%y4
index ^wnd925.1979.idx
undef 9.999E+20
title wnd925.1979
* produced by g2ctl v0.0.8.4
* command line options: wnd925.%y4 -0 -365
* griddef=1:0:(144 x 73):grid_template=0:winds(N/S): lat-lon grid:(144 x 73) units 1e-06 input WE:NS output WE:SN res 48 lat 90.000000 to -90.000000 by 2.500000 lon 0.000000 to 357.500000 by 2.500000 #points=10512:winds(N/S)
dtype grib2
options template
ydef 73 linear -90.000000 2.5
xdef 144 linear 0.000000 2.500000
options 365_day_calendar
tdef 2738 linear 00Z01jan1979 5dy
zdef 1 linear 1 1
vars 2
UGRD925mb 0,100,92500 0,2,2,0 ** 925 mb U-Component of Wind [m/s]
VGRD925mb 0,100,92500 0,2,3,0 ** 925 mb V-Component of Wind [m/s]
ENDVARS
