DSET ^geomerg_satid_%y4%m2
TITLE Satellite IDs in merged-IR products
OPTIONS yrev big_endian template
UNDEF 255
XDEF 720 LINEAR 0.25 0.5
YDEF 240 LINEAR -59.75 0.5
ZDEF 1 LEVELS 1
TDEF 99999 LINEAR 00:00z01Jan2015 30mn
VARS 1
sid 1 -1,40,1,-1 sat-ID
ENDVARS ********************************************** * * NOTE: * Data is in '1-byte unsigned char' format. * '-1,40,1,-1' in variable record handles * CHARACTER*1 format in our systems. This * may be system dependent. * **********************************************
