DSET /export-2/sgi109/irstat/advect_ssmi/final_anal/advt-8km-intrp-prim-sat-spat-2lag-2.5+5dovlp8kmIR-%y4%m2%d2%h2
OPTIONS yrev big_endian template
UNDEF 255
TITLE correlation estimates
XDEF 4948 LINEAR 0.036378335 0.072756669
YDEF 1649 LINEAR -59.963614 0.072771377
ZDEF 01 LEVELS 1
TDEF 99999 LINEAR 00z21dec2002 30mn
VARS 3
ssmi 1 -1,40,1,-1 xxxxxx yyyyy (mult. by 0.2 to get mm/hr units)
time 1 -1,40,1,-1 xxxxxx yyyyy
satid 1 -1,40,1,-1 xxxxxx yyyyy
ENDVARS
