DSET ^data/%y4/%y4%m2%d2%h2
OPTIONS template yrev little_endian
UNDEF 255
TITLE Precipitation estimates
XDEF 1440 LINEAR 0.125 0.25
YDEF 480 LINEAR -59.875 0.25
ZDEF 01 LEVELS 1
TDEF 99000 LINEAR 0z01dec2002 1hr
VARS 1
cmorph 1 -1,40,1,-1 xxxxxx yyyyy (mult. by 0.2 to get mm/hr units)
ENDVARS
