dset /cpc/prcp2/JOYCE/RADAR/MRMS/data/input/RadarOnly_QPE_01H/grid/005deg/MRMS-Radar_land-sea-dist-restrict
title (accum: 12Z previous day to 12Z current day)
options little_endian template yrev
undef -9999.
xdef 1400 linear 230.025 0.05
ydef 700 linear 20.025 0.05
zdef 1 linear 1 1
tdef 999999 linear 01jun2003 15mn
vars 1
radar 1 99 Radar (mm/day)
ENDVARS
